Package: scds Version: 1.16.0 Command: /home/biocbuild/bbs-3.17-bioc/R/bin/R CMD build --keep-empty-dirs --no-resave-data scds StartedAt: 2023-10-15 18:23:17 -0400 (Sun, 15 Oct 2023) EndedAt: 2023-10-15 18:24:11 -0400 (Sun, 15 Oct 2023) EllapsedTime: 54.7 seconds RetCode: 0 Status: OK PackageFile: scds_1.16.0.tar.gz PackageFileSize: 1.348 MiB