Package: scde Version: 2.28.2 Command: /home/biocbuild/bbs-3.17-bioc/R/bin/R CMD INSTALL scde StartedAt: 2023-10-15 15:38:29 -0400 (Sun, 15 Oct 2023) EndedAt: 2023-10-15 15:39:28 -0400 (Sun, 15 Oct 2023) EllapsedTime: 59.1 seconds RetCode: 0 Status: OK