Package: scde Version: 2.28.2 Command: /Library/Frameworks/R.framework/Resources/bin/R CMD check --install=check:scde.install-out.txt --library=/Library/Frameworks/R.framework/Resources/library --no-vignettes --timings scde_2.28.2.tar.gz StartedAt: 2023-10-16 06:42:02 -0400 (Mon, 16 Oct 2023) EndedAt: 2023-10-16 06:47:18 -0400 (Mon, 16 Oct 2023) EllapsedTime: 316.4 seconds RetCode: 0 Status: WARNINGS CheckDir: scde.Rcheck Warnings: 3