Package: scTGIF Version: 1.14.0 Command: /Library/Frameworks/R.framework/Resources/bin/R CMD INSTALL scTGIF StartedAt: 2023-10-15 16:10:16 -0400 (Sun, 15 Oct 2023) EndedAt: 2023-10-15 16:12:33 -0400 (Sun, 15 Oct 2023) EllapsedTime: 136.3 seconds RetCode: 0 Status: OK