Package: scRNAseqApp Version: 1.0.1 Command: /home/biocbuild/bbs-3.17-bioc/R/bin/R CMD check --install=check:scRNAseqApp.install-out.txt --library=/home/biocbuild/bbs-3.17-bioc/R/site-library --timings scRNAseqApp_1.0.1.tar.gz StartedAt: 2023-10-16 00:56:38 -0400 (Mon, 16 Oct 2023) EndedAt: 2023-10-16 01:03:16 -0400 (Mon, 16 Oct 2023) EllapsedTime: 398.1 seconds RetCode: 0 Status: OK CheckDir: scRNAseqApp.Rcheck Warnings: 0