Package: scRNAseqApp Version: 1.0.1 Command: /Library/Frameworks/R.framework/Resources/bin/R CMD check --install=check:scRNAseqApp.install-out.txt --library=/Library/Frameworks/R.framework/Resources/library --no-vignettes --timings scRNAseqApp_1.0.1.tar.gz StartedAt: 2023-10-16 06:51:26 -0400 (Mon, 16 Oct 2023) EndedAt: 2023-10-16 07:06:25 -0400 (Mon, 16 Oct 2023) EllapsedTime: 899.0 seconds RetCode: 0 Status: OK CheckDir: scRNAseqApp.Rcheck Warnings: 0