Package: scDD Version: 1.24.0 Command: rm -rf scDD.buildbin-libdir && mkdir scDD.buildbin-libdir && /Users/biocbuild/BBS/utils/build-universal.sh scDD_1.24.0.tar.gz /Library/Frameworks/R.framework/Resources/bin/R scDD.buildbin-libdir StartedAt: 2023-10-16 10:09:25 -0400 (Mon, 16 Oct 2023) EndedAt: 2023-10-16 10:11:26 -0400 (Mon, 16 Oct 2023) EllapsedTime: 121.6 seconds RetCode: 0 Status: OK PackageFile: scDD_1.24.0.tgz PackageFileSize: 1021 KiB