Package: scCB2 Version: 1.10.0 Command: F:\biocbuild\bbs-3.17-bioc\R\bin\R.exe CMD INSTALL scCB2 StartedAt: 2023-10-15 16:38:45 -0400 (Sun, 15 Oct 2023) EndedAt: 2023-10-15 16:39:28 -0400 (Sun, 15 Oct 2023) EllapsedTime: 43.0 seconds RetCode: 0 Status: OK