Package: scCB2 Version: 1.10.0 Command: rm -rf scCB2.buildbin-libdir && mkdir scCB2.buildbin-libdir && F:\biocbuild\bbs-3.17-bioc\R\bin\R.exe CMD INSTALL --build --library=scCB2.buildbin-libdir scCB2_1.10.0.tar.gz StartedAt: 2023-10-16 09:28:50 -0400 (Mon, 16 Oct 2023) EndedAt: 2023-10-16 09:29:33 -0400 (Mon, 16 Oct 2023) EllapsedTime: 43.2 seconds RetCode: 0 Status: OK PackageFile: scCB2_1.10.0.zip PackageFileSize: 893.7 KiB