Package: rpx Version: 2.8.1 Command: F:\biocbuild\bbs-3.17-bioc\R\bin\R.exe CMD INSTALL rpx StartedAt: 2023-10-15 16:04:38 -0400 (Sun, 15 Oct 2023) EndedAt: 2023-10-15 16:04:48 -0400 (Sun, 15 Oct 2023) EllapsedTime: 10.1 seconds RetCode: 0 Status: OK