Package: rpx Version: 2.8.0 Command: F:\biocbuild\bbs-3.17-bioc\R\bin\R.exe CMD check --no-multiarch --install=check:rpx.install-out.txt --library=F:\biocbuild\bbs-3.17-bioc\R\library --no-vignettes --timings rpx_2.8.0.tar.gz StartedAt: 2023-09-15 06:25:44 -0400 (Fri, 15 Sep 2023) EndedAt: 2023-09-15 06:27:42 -0400 (Fri, 15 Sep 2023) EllapsedTime: 118.7 seconds RetCode: 1 Status: ERROR CheckDir: rpx.Rcheck Warnings: NA