Package: rpx Version: 2.8.1 Command: chmod a+r rpx -R && F:\biocbuild\bbs-3.17-bioc\R\bin\R.exe CMD build --keep-empty-dirs --no-resave-data rpx StartedAt: 2023-10-15 21:57:11 -0400 (Sun, 15 Oct 2023) EndedAt: 2023-10-15 21:57:26 -0400 (Sun, 15 Oct 2023) EllapsedTime: 15.0 seconds RetCode: 1 Status: ERROR PackageFile: None PackageFileSize: NA