Package: rpx Version: 2.8.0 Command: rm -rf rpx.buildbin-libdir && mkdir rpx.buildbin-libdir && F:\biocbuild\bbs-3.17-bioc\R\bin\R.exe CMD INSTALL --build --library=rpx.buildbin-libdir rpx_2.8.0.tar.gz StartedAt: 2023-09-15 09:53:08 -0400 (Fri, 15 Sep 2023) EndedAt: 2023-09-15 09:53:19 -0400 (Fri, 15 Sep 2023) EllapsedTime: 11.7 seconds RetCode: 0 Status: OK PackageFile: rpx_2.8.0.zip PackageFileSize: 485.5 KiB