Package: ropls Version: 1.32.0 Command: chmod a+r ropls -R && F:\biocbuild\bbs-3.17-bioc\R\bin\R.exe CMD build --keep-empty-dirs --no-resave-data ropls StartedAt: 2023-10-15 21:56:12 -0400 (Sun, 15 Oct 2023) EndedAt: 2023-10-15 21:57:23 -0400 (Sun, 15 Oct 2023) EllapsedTime: 70.9 seconds RetCode: 0 Status: OK PackageFile: ropls_1.32.0.tar.gz PackageFileSize: 2.973 MiB