Package: rmspc Version: 1.6.0 Command: chmod a+r rmspc -R && F:\biocbuild\bbs-3.17-bioc\R\bin\R.exe CMD build --keep-empty-dirs --no-resave-data rmspc StartedAt: 2023-10-15 21:52:03 -0400 (Sun, 15 Oct 2023) EndedAt: 2023-10-15 21:52:54 -0400 (Sun, 15 Oct 2023) EllapsedTime: 50.5 seconds RetCode: 0 Status: OK PackageFile: rmspc_1.6.0.tar.gz PackageFileSize: 2.129 MiB