Package: rmspc Version: 1.6.0 Command: /Library/Frameworks/R.framework/Resources/bin/R CMD build --keep-empty-dirs --no-resave-data rmspc StartedAt: 2023-10-15 20:45:13 -0400 (Sun, 15 Oct 2023) EndedAt: 2023-10-15 20:49:05 -0400 (Sun, 15 Oct 2023) EllapsedTime: 232.6 seconds RetCode: 0 Status: OK PackageFile: rmspc_1.6.0.tar.gz PackageFileSize: 2.129 MiB