Package: ribor Version: 1.12.0 Command: /Library/Frameworks/R.framework/Resources/bin/R CMD check --install=check:ribor.install-out.txt --library=/Library/Frameworks/R.framework/Resources/library --no-vignettes --timings ribor_1.12.0.tar.gz StartedAt: 2023-10-16 06:05:25 -0400 (Mon, 16 Oct 2023) EndedAt: 2023-10-16 06:09:27 -0400 (Mon, 16 Oct 2023) EllapsedTime: 242.3 seconds RetCode: 0 Status: OK CheckDir: ribor.Rcheck Warnings: 0