Package: ribor Version: 1.12.0 Command: rm -rf ribor.buildbin-libdir && mkdir ribor.buildbin-libdir && /Users/biocbuild/BBS/utils/build-universal.sh ribor_1.12.0.tar.gz /Library/Frameworks/R.framework/Resources/bin/R ribor.buildbin-libdir StartedAt: 2023-10-16 10:03:38 -0400 (Mon, 16 Oct 2023) EndedAt: 2023-10-16 10:04:10 -0400 (Mon, 16 Oct 2023) EllapsedTime: 32.2 seconds RetCode: 0 Status: OK PackageFile: ribor_1.12.0.tgz PackageFileSize: 4.517 MiB