Package: restfulSE Version: 1.22.0 Command: /Library/Frameworks/R.framework/Resources/bin/R CMD INSTALL restfulSE StartedAt: 2023-10-15 16:30:46 -0400 (Sun, 15 Oct 2023) EndedAt: 2023-10-15 16:32:33 -0400 (Sun, 15 Oct 2023) EllapsedTime: 107.3 seconds RetCode: 0 Status: OK