Package: rScudo Version: 1.16.0 Command: /home/biocbuild/bbs-3.17-bioc/R/bin/R CMD build --keep-empty-dirs --no-resave-data rScudo StartedAt: 2023-10-15 18:18:33 -0400 (Sun, 15 Oct 2023) EndedAt: 2023-10-15 18:19:58 -0400 (Sun, 15 Oct 2023) EllapsedTime: 85.2 seconds RetCode: 0 Status: OK PackageFile: rScudo_1.16.0.tar.gz PackageFileSize: 822.6 KiB