Package: rRDP Version: 1.34.0 Command: /Library/Frameworks/R.framework/Resources/bin/R CMD build --keep-empty-dirs --no-resave-data rRDP StartedAt: 2023-10-15 20:51:02 -0400 (Sun, 15 Oct 2023) EndedAt: 2023-10-15 20:51:55 -0400 (Sun, 15 Oct 2023) EllapsedTime: 53.2 seconds RetCode: 0 Status: OK PackageFile: rRDP_1.34.0.tar.gz PackageFileSize: 1.54 MiB