Package: rGADEM Version: 2.48.0 Command: /Library/Frameworks/R.framework/Resources/bin/R CMD check --install=check:rGADEM.install-out.txt --library=/Library/Frameworks/R.framework/Resources/library --no-vignettes --timings rGADEM_2.48.0.tar.gz StartedAt: 2023-10-16 06:00:39 -0400 (Mon, 16 Oct 2023) EndedAt: 2023-10-16 06:09:14 -0400 (Mon, 16 Oct 2023) EllapsedTime: 514.4 seconds RetCode: 0 Status: OK CheckDir: rGADEM.Rcheck Warnings: 0