Package: quantiseqr Version: 1.8.0 Command: /Library/Frameworks/R.framework/Resources/bin/R CMD build --keep-empty-dirs --no-resave-data quantiseqr StartedAt: 2023-10-15 20:29:19 -0400 (Sun, 15 Oct 2023) EndedAt: 2023-10-15 20:31:48 -0400 (Sun, 15 Oct 2023) EllapsedTime: 149.3 seconds RetCode: 0 Status: OK PackageFile: quantiseqr_1.8.0.tar.gz PackageFileSize: 3.441 MiB