Package: pwOmics Version: 1.32.0 Command: /home/biocbuild/bbs-3.17-bioc/R/bin/R CMD build --keep-empty-dirs --no-resave-data pwOmics StartedAt: 2023-10-15 18:03:14 -0400 (Sun, 15 Oct 2023) EndedAt: 2023-10-15 18:03:15 -0400 (Sun, 15 Oct 2023) EllapsedTime: 1.0 seconds RetCode: 0 Status: OK PackageFile: pwOmics_1.32.0.tar.gz PackageFileSize: 882.5 KiB