Package: pvca Version: 1.40.0 Command: /home/biocbuild/bbs-3.17-bioc/R/bin/R CMD INSTALL pvca StartedAt: 2023-10-15 15:32:54 -0400 (Sun, 15 Oct 2023) EndedAt: 2023-10-15 15:33:04 -0400 (Sun, 15 Oct 2023) EllapsedTime: 10.2 seconds RetCode: 0 Status: OK