Package: puma Version: 3.42.0 Command: F:\biocbuild\bbs-3.17-bioc\R\bin\R.exe CMD check --no-multiarch --install=check:puma.install-out.txt --library=F:\biocbuild\bbs-3.17-bioc\R\library --no-vignettes --timings puma_3.42.0.tar.gz StartedAt: 2023-10-16 05:33:15 -0400 (Mon, 16 Oct 2023) EndedAt: 2023-10-16 05:38:11 -0400 (Mon, 16 Oct 2023) EllapsedTime: 296.0 seconds RetCode: 0 Status: OK CheckDir: puma.Rcheck Warnings: 0