Package: puma Version: 3.42.0 Command: rm -rf puma.buildbin-libdir && mkdir puma.buildbin-libdir && F:\biocbuild\bbs-3.17-bioc\R\bin\R.exe CMD INSTALL --build --library=puma.buildbin-libdir puma_3.42.0.tar.gz StartedAt: 2023-10-16 09:18:22 -0400 (Mon, 16 Oct 2023) EndedAt: 2023-10-16 09:19:26 -0400 (Mon, 16 Oct 2023) EllapsedTime: 64.1 seconds RetCode: 0 Status: OK PackageFile: puma_3.42.0.zip PackageFileSize: 3.902 MiB