Package: puma Version: 3.42.0 Command: /home/biocbuild/bbs-3.17-bioc/R/bin/R CMD INSTALL puma StartedAt: 2023-10-15 15:20:05 -0400 (Sun, 15 Oct 2023) EndedAt: 2023-10-15 15:20:44 -0400 (Sun, 15 Oct 2023) EllapsedTime: 39.1 seconds RetCode: 0 Status: OK