Package: puma Version: 3.42.0 Command: /home/biocbuild/bbs-3.17-bioc/R/bin/R CMD check --install=check:puma.install-out.txt --library=/home/biocbuild/bbs-3.17-bioc/R/site-library --timings puma_3.42.0.tar.gz StartedAt: 2023-10-16 00:05:29 -0400 (Mon, 16 Oct 2023) EndedAt: 2023-10-16 00:11:57 -0400 (Mon, 16 Oct 2023) EllapsedTime: 388.2 seconds RetCode: 0 Status: OK CheckDir: puma.Rcheck Warnings: 0