Package: puma Version: 3.42.0 Command: /home/biocbuild/bbs-3.17-bioc/R/bin/R CMD build --keep-empty-dirs --no-resave-data puma StartedAt: 2023-10-15 18:02:37 -0400 (Sun, 15 Oct 2023) EndedAt: 2023-10-15 18:03:54 -0400 (Sun, 15 Oct 2023) EllapsedTime: 77.8 seconds RetCode: 0 Status: OK PackageFile: puma_3.42.0.tar.gz PackageFileSize: 3.249 MiB