Package: puma Version: 3.42.0 Command: /Library/Frameworks/R.framework/Resources/bin/R CMD check --install=check:puma.install-out.txt --library=/Library/Frameworks/R.framework/Resources/library --no-vignettes --timings puma_3.42.0.tar.gz StartedAt: 2023-10-16 05:36:36 -0400 (Mon, 16 Oct 2023) EndedAt: 2023-10-16 05:49:17 -0400 (Mon, 16 Oct 2023) EllapsedTime: 760.8 seconds RetCode: 0 Status: WARNINGS CheckDir: puma.Rcheck Warnings: 1