Package: puma Version: 3.42.0 Command: rm -rf puma.buildbin-libdir && mkdir puma.buildbin-libdir && /Users/biocbuild/BBS/utils/build-universal.sh puma_3.42.0.tar.gz /Library/Frameworks/R.framework/Resources/bin/R puma.buildbin-libdir StartedAt: 2023-10-16 09:58:09 -0400 (Mon, 16 Oct 2023) EndedAt: 2023-10-16 10:00:46 -0400 (Mon, 16 Oct 2023) EllapsedTime: 156.2 seconds RetCode: 0 Status: OK PackageFile: puma_3.42.0.tgz PackageFileSize: 4.114 MiB