Package: profileScoreDist Version: 1.28.0 Command: rm -rf profileScoreDist.buildbin-libdir && mkdir profileScoreDist.buildbin-libdir && F:\biocbuild\bbs-3.17-bioc\R\bin\R.exe CMD INSTALL --build --library=profileScoreDist.buildbin-libdir profileScoreDist_1.28.0.tar.gz StartedAt: 2023-10-16 09:17:39 -0400 (Mon, 16 Oct 2023) EndedAt: 2023-10-16 09:18:05 -0400 (Mon, 16 Oct 2023) EllapsedTime: 26.1 seconds RetCode: 0 Status: OK PackageFile: profileScoreDist_1.28.0.zip PackageFileSize: 684.6 KiB