Package: prebs Version: 1.40.0 Command: F:\biocbuild\bbs-3.17-bioc\R\bin\R.exe CMD check --no-multiarch --install=check:prebs.install-out.txt --library=F:\biocbuild\bbs-3.17-bioc\R\library --no-vignettes --timings prebs_1.40.0.tar.gz StartedAt: 2023-10-16 05:25:40 -0400 (Mon, 16 Oct 2023) EndedAt: 2023-10-16 05:34:23 -0400 (Mon, 16 Oct 2023) EllapsedTime: 523.4 seconds RetCode: 0 Status: OK CheckDir: prebs.Rcheck Warnings: 0