Package: prebs Version: 1.40.0 Command: /home/biocbuild/bbs-3.17-bioc/R/bin/R CMD build --keep-empty-dirs --no-resave-data prebs StartedAt: 2023-10-15 18:00:03 -0400 (Sun, 15 Oct 2023) EndedAt: 2023-10-15 18:02:44 -0400 (Sun, 15 Oct 2023) EllapsedTime: 160.7 seconds RetCode: 0 Status: OK PackageFile: prebs_1.40.0.tar.gz PackageFileSize: 144.5 KiB