Package: prebs Version: 1.40.0 Command: /Library/Frameworks/R.framework/Resources/bin/R CMD check --install=check:prebs.install-out.txt --library=/Library/Frameworks/R.framework/Resources/library --no-vignettes --timings prebs_1.40.0.tar.gz StartedAt: 2023-10-16 05:26:16 -0400 (Mon, 16 Oct 2023) EndedAt: 2023-10-16 05:42:14 -0400 (Mon, 16 Oct 2023) EllapsedTime: 957.5 seconds RetCode: 0 Status: OK CheckDir: prebs.Rcheck Warnings: 0