Package: prebs Version: 1.40.0 Command: rm -rf prebs.buildbin-libdir && mkdir prebs.buildbin-libdir && /Users/biocbuild/BBS/utils/build-universal.sh prebs_1.40.0.tar.gz /Library/Frameworks/R.framework/Resources/bin/R prebs.buildbin-libdir StartedAt: 2023-10-16 09:56:42 -0400 (Mon, 16 Oct 2023) EndedAt: 2023-10-16 09:58:28 -0400 (Mon, 16 Oct 2023) EllapsedTime: 106.1 seconds RetCode: 0 Status: OK PackageFile: prebs_1.40.0.tgz PackageFileSize: 409.7 KiB