Package: pram Version: 1.16.0 Command: /Library/Frameworks/R.framework/Resources/bin/R CMD build --keep-empty-dirs --no-resave-data pram StartedAt: 2023-10-15 20:21:35 -0400 (Sun, 15 Oct 2023) EndedAt: 2023-10-15 20:23:29 -0400 (Sun, 15 Oct 2023) EllapsedTime: 114.2 seconds RetCode: 0 Status: OK PackageFile: pram_1.16.0.tar.gz PackageFileSize: 2.665 MiB