Package: pram Version: 1.16.0 Command: rm -rf pram.buildbin-libdir && mkdir pram.buildbin-libdir && /Users/biocbuild/BBS/utils/build-universal.sh pram_1.16.0.tar.gz /Library/Frameworks/R.framework/Resources/bin/R pram.buildbin-libdir StartedAt: 2023-10-16 09:56:41 -0400 (Mon, 16 Oct 2023) EndedAt: 2023-10-16 09:58:20 -0400 (Mon, 16 Oct 2023) EllapsedTime: 98.9 seconds RetCode: 0 Status: OK PackageFile: pram_1.16.0.tgz PackageFileSize: 2.496 MiB