Package: polyester Version: 1.36.0 Command: /home/biocbuild/bbs-3.17-bioc/R/bin/R CMD check --install=check:polyester.install-out.txt --library=/home/biocbuild/bbs-3.17-bioc/R/site-library --timings polyester_1.36.0.tar.gz StartedAt: 2023-10-15 23:56:52 -0400 (Sun, 15 Oct 2023) EndedAt: 2023-10-15 23:58:58 -0400 (Sun, 15 Oct 2023) EllapsedTime: 125.7 seconds RetCode: 0 Status: OK CheckDir: polyester.Rcheck Warnings: 0