Package: polyester Version: 1.36.0 Command: /Library/Frameworks/R.framework/Resources/bin/R CMD check --install=check:polyester.install-out.txt --library=/Library/Frameworks/R.framework/Resources/library --no-vignettes --timings polyester_1.36.0.tar.gz StartedAt: 2023-10-16 05:23:53 -0400 (Mon, 16 Oct 2023) EndedAt: 2023-10-16 05:28:42 -0400 (Mon, 16 Oct 2023) EllapsedTime: 288.9 seconds RetCode: 0 Status: OK CheckDir: polyester.Rcheck Warnings: 0