Package: polyester Version: 1.36.0 Command: /Library/Frameworks/R.framework/Resources/bin/R CMD build --keep-empty-dirs --no-resave-data polyester StartedAt: 2023-10-15 20:20:42 -0400 (Sun, 15 Oct 2023) EndedAt: 2023-10-15 20:21:55 -0400 (Sun, 15 Oct 2023) EllapsedTime: 73.3 seconds RetCode: 0 Status: OK PackageFile: polyester_1.36.0.tar.gz PackageFileSize: 1.813 MiB