Package: podkat Version: 1.32.0 Command: /home/biocbuild/bbs-3.17-bioc/R/bin/R CMD check --install=check:podkat.install-out.txt --library=/home/biocbuild/bbs-3.17-bioc/R/site-library --timings podkat_1.32.0.tar.gz StartedAt: 2023-10-15 23:56:48 -0400 (Sun, 15 Oct 2023) EndedAt: 2023-10-16 00:03:16 -0400 (Mon, 16 Oct 2023) EllapsedTime: 387.9 seconds RetCode: 0 Status: WARNINGS CheckDir: podkat.Rcheck Warnings: 1