Package: pmp Version: 1.12.0 Command: rm -rf pmp.buildbin-libdir && mkdir pmp.buildbin-libdir && F:\biocbuild\bbs-3.17-bioc\R\bin\R.exe CMD INSTALL --build --library=pmp.buildbin-libdir pmp_1.12.0.tar.gz StartedAt: 2023-10-16 09:16:33 -0400 (Mon, 16 Oct 2023) EndedAt: 2023-10-16 09:17:02 -0400 (Mon, 16 Oct 2023) EllapsedTime: 28.7 seconds RetCode: 0 Status: OK PackageFile: pmp_1.12.0.zip PackageFileSize: 3.353 MiB