Package: pmp Version: 1.12.0 Command: /Library/Frameworks/R.framework/Resources/bin/R CMD INSTALL pmp StartedAt: 2023-10-15 15:32:46 -0400 (Sun, 15 Oct 2023) EndedAt: 2023-10-15 15:34:00 -0400 (Sun, 15 Oct 2023) EllapsedTime: 74.2 seconds RetCode: 0 Status: OK