Package: pmp Version: 1.12.0 Command: /Library/Frameworks/R.framework/Resources/bin/R CMD check --install=check:pmp.install-out.txt --library=/Library/Frameworks/R.framework/Resources/library --no-vignettes --timings pmp_1.12.0.tar.gz StartedAt: 2023-10-16 05:22:05 -0400 (Mon, 16 Oct 2023) EndedAt: 2023-10-16 05:29:44 -0400 (Mon, 16 Oct 2023) EllapsedTime: 459.6 seconds RetCode: 0 Status: OK CheckDir: pmp.Rcheck Warnings: 0