Package: plgem Version: 1.72.0 Command: /home/biocbuild/bbs-3.17-bioc/R/bin/R CMD check --install=check:plgem.install-out.txt --library=/home/biocbuild/bbs-3.17-bioc/R/site-library --timings plgem_1.72.0.tar.gz StartedAt: 2023-10-15 23:55:49 -0400 (Sun, 15 Oct 2023) EndedAt: 2023-10-15 23:56:48 -0400 (Sun, 15 Oct 2023) EllapsedTime: 58.7 seconds RetCode: 0 Status: OK CheckDir: plgem.Rcheck Warnings: 0