Package: pipeComp Version: 1.10.0 Command: rm -rf pipeComp.buildbin-libdir && mkdir pipeComp.buildbin-libdir && F:\biocbuild\bbs-3.17-bioc\R\bin\R.exe CMD INSTALL --build --library=pipeComp.buildbin-libdir pipeComp_1.10.0.tar.gz StartedAt: 2023-10-16 09:16:06 -0400 (Mon, 16 Oct 2023) EndedAt: 2023-10-16 09:17:15 -0400 (Mon, 16 Oct 2023) EllapsedTime: 68.7 seconds RetCode: 0 Status: OK PackageFile: pipeComp_1.10.0.zip PackageFileSize: 3.288 MiB