Package: phyloseq Version: 1.44.0 Command: /home/biocbuild/bbs-3.17-bioc/R/bin/R CMD check --install=check:phyloseq.install-out.txt --library=/home/biocbuild/bbs-3.17-bioc/R/site-library --timings phyloseq_1.44.0.tar.gz StartedAt: 2023-10-15 23:52:32 -0400 (Sun, 15 Oct 2023) EndedAt: 2023-10-15 23:58:21 -0400 (Sun, 15 Oct 2023) EllapsedTime: 349.9 seconds RetCode: 0 Status: WARNINGS CheckDir: phyloseq.Rcheck Warnings: 1