Package: phenopath Version: 1.24.0 Command: /home/biocbuild/bbs-3.17-bioc/R/bin/R CMD check --install=check:phenopath.install-out.txt --library=/home/biocbuild/bbs-3.17-bioc/R/site-library --timings phenopath_1.24.0.tar.gz StartedAt: 2023-10-15 23:51:42 -0400 (Sun, 15 Oct 2023) EndedAt: 2023-10-15 23:54:36 -0400 (Sun, 15 Oct 2023) EllapsedTime: 173.9 seconds RetCode: 0 Status: OK CheckDir: phenopath.Rcheck Warnings: 0